Workbook

Sheet titullapa
I1: APSTIPRINĀTS
I2: Latvijas Neredzīgo biedrības
I3: valdes sēdē 27.03.2025.
I6: Centrālās valdes priekšsēdētājs
I7: K.Biezais
A16: Latvijas Neredzīgo biedrība
A17: Reģistrācijas Nr. 40008004000
A21: Gada pārskats 2024
A52: Rīga, 2025

Sheet saturs
A1: Latvijas Neredzīgo biedrība, reģ. Nr.40008004000, Braila iela 3, Rīga Gada pārskats 2024 | J1: =CONCATENATE([1]Titullapa!N36," годовой отчёт за ",[1]Titullapa!O44," год") -> ООО "RAI годовой отчёт за 2021 год | T1: =CONCATENATE([1]Titullapa!X36," annual report for year ",[1]Titullapa!Y44) -> RAI SIA annual report for year 2021
A3: SATURS | J3: СОДЕРЖАНИЕ | T3: CONTENTS
I7: Lpp. | S7: Стр. | AC7: Page No.
A9: Vispārīga informācija | I9: 3 | J9: Сообщение руководства предприятия | R9: 4 | S9: 4 | T9: Management Report | AC9: 4
A11: Bilance | I11: 4 | J11: Отчёт о прибылях и убытках | R11: 5 | S11: 5 | T11: Income Statement | AC11: 5
A13: Ieņēmumu un izdevumu pārskats | I13: 6 | J13: Баланс | R13: 6 | S13: 6 | T13: Balance Sheet | AC13: 6
A15: Ziedojumu un dāvinājumu pārskats | I15: 7 | J15: Отчёт об изменениях в собственном капитале | R15: 8 | S15: 8 | T15: Statement of Changes in Equity | AC15: 9
A17: Finanšu pārskatu pielikumi | J17: Приложение к финансовому отчёту | R17: 9 | S17: 9 | T17: Notes | AC17: 10
B18: Grāmatvedības politika | I18: 8
B19: Bilances posteņu un ieņēmumu un izdevumu posteņu skaidrojumi | I19: 9
A21: Vadības ziņojums | I21: 12
A23: Revidenta ziņojums | I23: 23
J25: Заключение независимых аудиторов | S25: 21 | T25: Independent Auditors’ Report | AC25: 21
J27: Заключение независимых аудиторов | S27: 21 | T27: Independent Auditors’ Report | AC27: 21

Sheet info
A1: =saturs!A1 -> Latvijas Neredzīgo biedrība, reģ. Nr.40008004000, Braila iela 3, Rīga Gada pārskats 2024 | L1: =[1]Saturs!K1 -> ООО "RAI годовой отчёт за 2021 год | W1: =[1]Saturs!U1 -> RAI SIA annual report for year 2021
A3: VISPĀRĪGA INFORMĀCIJA | L3: ИНФОРМАЦИЯ ОБ ОБЩЕСТВЕ | W3: COMPANY INFORMATION
A6: Sabiedrības nosaukums | F6: =titullapa!A17 -> Reģistrācijas Nr. 40008004000 | L6: Название общества | Q6: =[1]Titullapa!N36 -> ООО "RAI | W6: Company name | AB6: =[1]Titullapa!X36 -> RAI SIA
A8: Sabiedrības juridiskais statuss | F8: Biedrība | L8: Юридический статус общества | Q8: Общество с ограниченной ответственностью | W8: Legal status | AB8: Limited liability company
A10: Reģistrācijas Nr., vieta un datums | F10: 40008004000 | L10: Регистрационный номер, место и дата | Q10: =F10 -> 40008004000 | W10: Registration No., place and date | AB10: <Reģ. Nr.>, <Vieta>, <Datums>
A12: Juridiska adrese | F12: Braila ielā 3, Rīga LV-1024 | L12: Юридический адрес | Q12: ул. Земитана 6, г. Рига, LV-1012 | W12: Legal address
A14: Lielākie dalībnieki | L14: Основные участники | Q14: Kaido Niikiste -100 % | W14: Major shareholders | AB14: Alisher Turdialiev -33.33 %
AB15: Suren Safarov -33.33 %
AB16: Bobir Karimov -33.33 %
A18: Izpildinstitūcija | F18: Kaspars Biezais - | H18: CV priekšsēdētājs | L18: Председатель правления | Q18: Kaido Niimiste | T18: – | U18: Председатель правления | W18: Members of the Board | AB18: Alisher Turdialiev | AE18: – | AF18: Board member
F19: Dace Dobrāja - | H19: CV priekšsēdētāja vietniece | Q19: <Имя, Фамилия> | T19: – | U19: Член правления | AB19: <Vārds, Uzvārds> | AE19: – | AF19: Board member
F20: Linda Bumbiere - | H20: CV valdes loceklis
F21: Lolita Korjapina - | H21: CV valdes loceklis
F22: Aleksandrs Mačņevs - | H22: CV valdes loceklis
F23: Ilze Makarova - Makaronoka - | H23: CV valdes loceklis
F24: Romans Praņevičus - | H24: CV valdes loceklis
F25: Uģis Skuja - | H25: CV valdes loceklis | Q25: <Имя, Фамилия> | T25: – | U25: Член правления | AB25: <Vārds, Uzvārds> | AE25: – | AF25: Board member
F26: Ilvars Vilks - | H26: CV valdes loceklis
A31: Gada pārskatu sagatavoja | F31: Ļubova Urbanoviča | I31: – | J31: Galvenā grāmatvede
A33: Pārskata gads | F33: no | G33: 45292 | H33: līdz | J33: 45657 | L33: Отчётный год | Q33: с | R33: =G33 -> 45292 | S33: по | U33: =J33 -> 45657 | W33: Financial year | AB33: from | AC33: =G33 -> 45292 | AD33: to | AF33: =J33 -> 45657
A36: Sabiedrības darbības veids | F36: sociālā aizsardzība | L36: Вид деятельности | Q36: Аренда и управление недвижимости | W36: Type of activity
A38: NACE klasifikatora kods | L38: Код классификатора NACE | W38: NACE classification code
A40: Revidenti | F40: Silvija Gulbe | J40: SIA Sindiks | L40: Аудиторы: | W40: Auditors
F41: Zvērināta revidente | J41: Brīvības iela 85-5
F42: Sertifikāts Nr.142 | J42: Reģ. Nr.40003078342
J43: Licence Nr.100
A55: 3

Sheet aktīvs
A1: =saturs!A1 -> Latvijas Neredzīgo biedrība, reģ. Nr.40008004000, Braila iela 3, Rīga Gada pārskats 2024
A6: BILANCE
A7: AKTĪVS | F7: Piezīme | G7: Pārskata gada beigās | H7: Iepriekšējā pārskata gada beigās
A8: Ilgtermiņa ieguldījumi | F8: 2 | G8: =G9+G10+G14 -> 8877892 | H8: =H9+H10+H14 -> 9009076 | M8: debitori | O8: kreditori | Q8: nodokļi
A9: I NEMATERIĀLIE IEGULDĪJUMI: | G9: 587 | H9: 822 | L9: 2181 | M9: 913 | N9: 5911 | P9: 5721 | Q9: 4883
A10: II PAMATLĪDZEKĻI: | G10: =G11+G12+G13 -> 8877305 | H10: =H11+H12+H13 -> 9008254 | L10: 2311 | M10: 7220 | N10: 59111 | O10: 45765 | P10: 5722 | Q10: 12895
B11: 1. | C11: Nekustamais īpašums | G11: 8603860 | H11: 8757226 | L11: 2364 | N11: 59112 | O11: 126470 | P11: 5723 | Q11: 1513
B12: 2. | C12: Pārējie pamatlīdzekļi | G12: 273445 | H12: 251028 | L12: 2369 | N12: 5912 | O12: 1259239 | P12: 5725 | Q12: 11
B13: 3 | C13: Pamatlīdzekļu izveidošana un nepabeigtā celtniecība | G13: 0 | H13: 0 | L13: 2381 | M13: 70 | N13: 5913 | O13: 7737
A14: III ILGTERMIŅA FINANŠU IEGULDĪJUMI | G14: =G17+G15 -> 0 | H14: =H17+H15 -> 0 | L14: 24111 | N14: 5916
B15: 1. | C15: Akcijas un daļas | L15: 24112 | N15: 5421 | O15: 22524
B16: 2. | C16: Nākamo periodu izmaksas | L16: 5739 | M16: 503 | N16: 5918 | O16: 141
B17: 3. | C17: Ilgtermiņa aizdevumi | L17: 5311 | M17: 149 | N17: 5311 | O17: 108201
A18: Apgrozāmie līdzekļi | G18: =G19+G22+G24+G25+G23 -> 854385 | H18: =H19+H22+H24+H25+H23 -> 1194374 | L18: 57299 | M18: 15398 | N18: 5422 | O18: 5140
A19: I KRĀJUMI: | F19: 3 | G19: =G20+G21 -> 321182 | H19: =H20+H21 -> 334493 | L19: 2421 | M19: 8108 | N19: 5423
B20: 1. | C20: Materiāli | G20: 321182 | H20: 334493 | N20: 5424 | O20: 1890
B21: 2. | C21: Preces | G21: 0 | H21: 0 | N21: 5611 | O21: 1119
A22: II DEBITORI: | F22: 4 | G22: 32361 | H22: =498+170+50519+1551+84+18698+262-50519 -> 21263 | N22: 5613
A23: III Nākamo periodu izmaksas | G23: 1696 | H23: 50519 | N23: 5621
A24: IV Vērtspapīri | N24: 5621 | O24: 13
A25: V Nauda | F25: 5 | G25: 499146 | H25: 788099 | M25: =SUM(M9:M24) -> 32361 | O25: =SUM(O9:O24) -> 1578239 | Q25: =SUM(Q9:Q24) -> 19302
A27: BILANCE | G27: =G8+G18 -> 9732277 | H27: =H8+H18 -> 10203450 | K27: =G27-pasīvs!G25 -> 0
A29: Latvijas Neredzīgo biedrības Centrālās valdes priekšsēdētājs Kaspars Biezais
H30: (paraksts)
A31: Latvijas Neredzīgo biedrības galvenā grāmatvede Ļubova Urbanoviča | M31: nauda | N31: summa | O31: kopā
H32: (paraksts) | M32: 261401 | N32: 37 | O32: =SUM(N32:N62) -> 499145.59 | P32: 36.82
A33: 2025.gada ___.______________________ | M33: 261402 | N33: 485 | P33: 485.29
M34: 261403 | N34: 19 | P34: 19.17
M35: 261404 | N35: 0 | P35: 0
M36: 261405 | N36: 196 | P36: 196.25
M37: 261406 | N37: 608 | P37: 607.73
M38: 261407 | N38: 423 | P38: 423.37
M39: 261408 | N39: 1 | P39: 0.75
M40: 261409 | N40: 0 | P40: 0
M41: 261410 | N41: 2 | P41: 2.16
M42: 261411 | N42: 187 | P42: 187.1
M43: 261412 | N43: 425 | P43: 424.45
M44: 262101 | N44: 187556 | P44: 187555.62
M45: 262107 | N45: 34530 | P45: 34529.94
... M54: 262210 | N54: 50195 | P54: 50195.13
...

Sheet pasīvs
A1: =aktīvs!A1 -> Latvijas Neredzīgo biedrība, reģ. Nr.40008004000, Braila iela 3, Rīga Gada pārskats 2024
A6: BILANCE
A7: PASĪVS | F7: Piezīme | G7: Pārskata gada beigās | H7: Iepriekšējā pārskata gada beigās
A8: I FONDI: | F8: 6 | G8: =SUM(G9+G10+G11) -> 8134743 | H8: =SUM(H9+H10+H11) -> 8249236 | M8: debitori | O8: kreditori | Q8: nodokļi
B9: 1. | C9: Pamatfonds | G9: 8046370 | H9: 8046370 | L9: =aktīvs!L9 -> 2181 | M9: =aktīvs!M9 -> 913 | N9: =aktīvs!N9 -> 5911 | O9: =aktīvs!O9 -> 0 | P9: 5721 | Q9: =aktīvs!Q9 -> 4883
B10: 2. | C10: Mērķfonds | G10: 140 | H10: 140 | L10: =aktīvs!L10 -> 2311 | M10: =aktīvs!M10 -> 7220 | N10: =aktīvs!N10 -> 59111 | O10: =aktīvs!O10 -> 45765 | P10: 5722 | Q10: =aktīvs!Q10 -> 12895
B11: 3. | C11: Rezerves fonds | G11: =SUM(G12+G13) -> 88233 | H11: =SUM(H12+H13) -> 202726 | L11: =aktīvs!L11 -> 2364 | M11: =aktīvs!M11 -> 0 | N11: =aktīvs!N11 -> 59112 | O11: =aktīvs!O11 -> 126470 | P11: 5723 | Q11: =aktīvs!Q11 -> 1513
C12: 3.1. | D12: Iepriekšējo gadu rezerves fonds | G12: 202726 | H12: 79256 | L12: =aktīvs!L12 -> 2369 | M12: =aktīvs!M12 -> 0 | N12: =aktīvs!N12 -> 5912 | O12: =aktīvs!O12 -> 1259239 | P12: 5725 | Q12: =aktīvs!Q12 -> 11
C13: 3.2. | D13: pārskata gada rezerves fonds | G13: =SUM('ieņ.izd pārskats'!F34) -> -114493 | H13: 123470 | L13: =aktīvs!L13 -> 2381 | M13: =aktīvs!M13 -> 70 | N13: =aktīvs!N13 -> 5913 | O13: =aktīvs!O13 -> 7737
A14: II ILGTERMIŅA KREDITORI: | G14: =SUM(G15+G16+G17) -> 1195589 | H14: =SUM(H15+H16+H17) -> 1220557 | L14: =aktīvs!L14 -> 24111 | M14: =aktīvs!M14 -> 0 | N14: =aktīvs!N14 -> 5916 | O14: =aktīvs!O14 -> 0
B15: 1. | C15: Ilgtermiņa aizņēmumi no kredītiestādēm | L15: =aktīvs!L15 -> 24112 | M15: =aktīvs!M15 -> 0 | N15: =aktīvs!N15 -> 5421 | O15: =aktīvs!O15 -> 22524
B16: 2. | C16: Citi aizņēmumi | L16: =aktīvs!L16 -> 5739 | M16: =aktīvs!M16 -> 503 | N16: =aktīvs!N16 -> 5918 | O16: =aktīvs!O16 -> 141
B17: 3. | C17: Nākamo periodu ieņēmumi | F17: 7 | G17: 1195589 | H17: =1002370-19586+237773 -> 1220557 | L17: =aktīvs!L17 -> 5311 | M17: =aktīvs!M17 -> 149 | N17: =aktīvs!N17 -> 5311 | O17: =aktīvs!O17 -> 108201
A18: III ĪSTERMIŅA KREDITORI: | G18: =SUM(G19+G20+G21+G22) -> 401945 | H18: =SUM(H19+H20+H21+H22) -> 733657 | L18: =aktīvs!L18 -> 57299 | M18: =aktīvs!M18 -> 15398 | N18: =aktīvs!N18 -> 5422 | O18: =aktīvs!O18 -> 5140
B19: 1. | C19: Īstermiņa aizņēmumi no kredītiestādēm | L19: =aktīvs!L19 -> 2421 | M19: =aktīvs!M19 -> 8108 | N19: =aktīvs!N19 -> 5423 | O19: =aktīvs!O19 -> 0
B20: 2. | C20: Nodokļi un valsts sociālās aprošināšanas obligātās iemaksas | F20: 8 | G20: 19302 | H20: =5810+11319+10+1443 -> 18582 | M20: =aktīvs!M20 -> 0 | N20: =aktīvs!N20 -> 5424 | O20: =aktīvs!O20 -> 1890
B21: 3. | C21: Nākamo periodu ieņēmumi | F21: 7 | G21: 190848 | H21: =514633+19586+86970 -> 621189 | M21: =aktīvs!M21 -> 0 | N21: =aktīvs!N21 -> 5611 | O21: =aktīvs!O21 -> 1119
B22: 4. | C22: Pārējie kreditori | F22: 9 | G22: =191789+6 -> 191795 | H22: =21322+10220+2343+3425+2+13+15+49154+514633+1326503+7028+972+2-514633-1002370-324743 -> 93886 | M22: =aktīvs!M22 -> 0 | N22: =aktīvs!N22 -> 5613 | O22: =aktīvs!O22 -> 0
A23: IV MAKSĀJUMI DZĪVOJAMĀS MĀJAS NĀKOTNES REMONTIEM | N23: =aktīvs!N23 -> 5621 | O23: =aktīvs!O23 -> 0
N24: =aktīvs!N24 -> 5621
A25: BILANCE | G25: =G8+G14+G18 -> 9732277 | H25: =H8+H14+H18 -> 10203450 | J25: =G25-aktīvs!G27 -> 0
A27: =aktīvs!A29 -> Latvijas Neredzīgo biedrības Centrālās valdes priekšsēdētājs Kaspars Biezais
H28: (paraksts)
A29: =aktīvs!A31 -> Latvijas Neredzīgo biedrības galvenā grāmatvede Ļubova Urbanoviča
H30: (paraksts)
A31: =aktīvs!A33 -> 2025.gada ___.______________________ | M31: =SUM(M9:M30) -> 32361 | O31: =SUM(O9:O30) -> 1578226 | Q31: =SUM(Q9:Q30) -> 19302
O32: =G17+G21+G22 -> 1578232
O33: =O31-O32 -> -6 | P33: ctr
A53: 5 | O53: =O52-G42 -> 0

Sheet ieņ.izd pārskats
A1: =aktīvs!A1 -> Latvijas Neredzīgo biedrība, reģ. Nr.40008004000, Braila iela 3, Rīga Gada pārskats 2024
A6: Ieņēmumu un izdevumu pārskats
A8: Nr. p.k. | C8: Posteņa nosaukums | E8: Pie-zīme | F8: Pārskata gada beigās | G8: Iepriekšējā pārskata gada beigās
A9: I | B9: Biedru nauda, iestāšanās nauda un citas gadskārtējās iemaksas | F9: 1960 | G9: 1802
A10: II | B10: Saņemtie ziedojumi un dāvinājumi | F10: 4289 | G10: 9100
A11: III | C11: Saņemtie mantojumi
A12: IV | B12: Saņemtās dotācijas | F12: 2265645 | G12: 2525303
A13: V | B13: Ieņēmumi no saimnieciskās darbības | F13: 72357 | G13: 75265
A14: VI | C14: No ES, EEZ un citiem ārvalstu fondiem saņemtais finansējums
A15: VII | B15: Citi ieņēmumi | F15: =14621+149008 -> 163629 | G15: 130607
A16: VIII | B16: Ieņēmumi kopā | E16: 10 | F16: =F9+F10+F11+F12+F13+F14+F15 -> 2507880 | G16: =G9+G10+G11+G12+G13+G14+G15 -> 2742077
A17: IX | B17: Izdevumi: | F17: =F18+F25 -> -2622373 | G17: =G18+G25 -> -2618607
B18: (1) | C18: Izdevumi, izņemot izdevumus saimnieciskās darbības veikšanai | F18: =SUM(F20:F24) -> -2411522 | G18: =SUM(G20:G24) -> -2416015
C19: 1. | D19: Atbalsta maksājumi personām
C20: 2. | D20: Materiālu izdevumi | E20: 11 | F20: -1318872 | G20: -1268023
C21: 3. | D21: Darba samaksa | F21: -261770 | G21: -200498
C22: 4. | D22: Sociālās aprošināšanas un nodrošinājuma maksājumi | F22: -63483 | G22: -45718
C23: 5. | D23: Pamatlīdzekļu un nemateriālo ieguldījumu nolietojums un norakstīšana | F23: -27935 | G23: -27892
C24: 6. | D24: Citi izdevumi. | E24: 12 | F24: -739462 | G24: -873884
B25: (2) | C25: Izdevumi saimnieciskās darbības veikšanai | F25: =SUM(F26:F31) -> -210851 | G25: =SUM(G26:G31) -> -202592
C26: 1. | D26: Saimnieciskās darbības veikšanai saņemto citu personu pakalpojumi | F26: 0 | G26: -120
C27: 2. | D27: Materiālu izdevumi | F27: -1673 | G27: -276
C28: 3. | D28: Darba samaksa | F28: -31940 | G28: -28382
C29: 4. | D29: Sociālās aprošināšanas un nodrošinājuma maksājumi | F29: -7996 | G29: -6258
C30: 5. | D30: Pamatlīdzekļu un nemateriālo ieguldījumu nolietojums un norakstīšana | F30: -128714 | G30: -129300
C31: 6. | D31: Citi izdevumi. | E31: 13 | F31: -40528 | G31: -38256
A32: X | B32: Nodokļi
A33: XI | B33: Izdevumi kopā | F33: =F18+F25 -> -2622373 | G33: =G18+G25 -> -2618607
A34: XII | B34: Ieņēmumu un izdevumu starpība | F34: =F16+F33 -> -114493 | G34: =G16+G33 -> 123470
A35: t. sk. Ieņēmumu un izdevumu starpība no saimnieciskās darbības | F35: =F13+F25 -> -138494 | G35: =G13+G25 -> -127327
A37: =aktīvs!A29 -> Latvijas Neredzīgo biedrības Centrālās valdes priekšsēdētājs Kaspars Biezais | G37: ______________
G38: (paraksts)
A39: =aktīvs!A31 -> Latvijas Neredzīgo biedrības galvenā grāmatvede Ļubova Urbanoviča | G39: ______________
G40: (paraksts)
A41: =aktīvs!A33 -> 2025.gada ___.______________________
A47: 6

Sheet zied.pārskats
A1: =saturs!A1 -> Latvijas Neredzīgo biedrība, reģ. Nr.40008004000, Braila iela 3, Rīga Gada pārskats 2024
A3: Ziedojumu un dāvinājumu pārskats
A5: Nr. p.k. | B5: Posteņa nosaukums | F5: Piezīme | G5: Pārskata gada beigās | H5: Iepriekšējā pārskata gada beigās
A6: I | B6: Atlikums pārskata gada sākumā | G6: =SUM(G7+G8) -> 3709 | H6: =SUM(H7+H8) -> 0
B7: 1. | C7: Vispārējie ziedojumi (neierobežotai lietošanai), tai skaitā anonīmi ziedojumi un dāvinājumi | G7: 1779
B8: 2. | C8: Mērķziedojumi (noteiktiem mērķiem), tai skaitā anonīmi ziedojumi un dāvinājumi | G8: 1930
A9: II | B9: Pārskata gadā saņemto ziedojumu un dāvinājumu kopsumma | G9: =G17+G10 -> 4289 | H9: =H17+H10 -> 9100
B10: 1. | C10: Vispārēji ziedojumi (neierobežotai lietošanai) | G10: =G11+G12+G13+G14+G15+G16 -> 585 | H10: =H11+H12+H13+H14+H15+H16 -> 1779
C11: 1.1. | D11: Latvijas Republikā reģistrētās juridiskās personas | G11: 105 | H11: 0
C12: 1.2. | D12: Ārvalstu juridiskās personas
C13: 1.3. | D13: Fiziskās personas (rezidenti) | G13: 480 | H13: 1679
C14: 1.4. | D14: Fiziskās personas (nerezidenti) | H14: 0
C15: 1.5. | D15: Anonīmi (nezināmi) ziedotāji un dāvinātāji
C16: 1.6. | D16: Citi ziedotāji | H16: 100
B17: 2. | C17: Mērķziedojumi (noteiktiem mērķiem) | G17: =G18+G19+G20+G21+G22+G23 -> 3704 | H17: 7321
C18: 2.1. | D18: Latvijas Republikā reģistrētās juridiskās personas | G18: 1706 | H18: 5313
C19: 2.2. | D19: Ārvalstu juridiskās personas
C20: 2.3. | D20: Fiziskās personas (rezidenti) | G20: 1988 | H20: 1988
C21: 2.4. | D21: Fiziskās personas (nerezidenti)
C22: 2.5. | D22: Anonīmi (nezināmi) ziedotāji un dāvinātāji | G22: 10 | H22: 0
C23: 2.6. | D23: Citi ziedotāji
A24: III | B24: Ziedojumu un dāvinājumu izlietojuma kopsumma | G24: =G25+G31 -> 7998 | H24: =H25+H31 -> 5391
B25: 1. | C25: Vispārēji ziedojumi (neierobežotai lietošanai), tai skaitā anonīmi ziedojumi un dāvinājumi | G25: =G26+G29+G30 -> 4294 | H25: =H26+H29+H30 -> 0
C26: 1.1. | D26: Statūtos paredzētajiem mērķiem un uzdevumiem | G26: =G27+G28 -> 4294 | H26: =H27+H28 -> 0
D27: 1.1.1. | E27: Sabiedriskā labuma darbībai | G27: =585+3709 -> 4294 | H27: 0
D28: 1.1.2. | E28: Citiem mērķiem un uzdevumiem | G28: 0 | H28: 0
C29: 1.2. | D29: Administratīvajiem izdevumiem | H29: 0
C30: 1.3. | D30: Pārējiem saimnieciskās darbības izdevumiem | G30: 0 | H30: 0
B31: 2. | C31: Mērķziedojumi (noteiktiem mērķiem), tai skaitā anonīmi ziedojumi un dāvinājumi | G31: =G32+G35+G36 -> 3704 | H31: =H32+H35+H36 -> 5391
C32: 2.1. | D32: Statūtos paredzētajiem mērķiem un uzdevumiem | G32: =G33+G34 -> 1613 | H32: =H33+H34 -> 5091
D33: 2.1.1. | E33: Sabiedriskā labuma darbībai | G33: =1613 -> 1613 | H33: 5091
D34: 2.1.2. | E34: Citiem mērķiem un uzdevumiem | H34: 0
C35: 2.2. | D35: Administratīvajiem izdevumiem | G35: 2091 | H35: 300
C36: 2.3. | D36: Pārējiem saimnieciskās darbības izdevumiem | G36: 0
A37: IV | B37: Atlikums pārskata gada beigās | G37: =G6+G9-G24 -> 0 | H37: =H6+H9-H24 -> 3709
G38: =G7+G10-G25 -> -1930
G39: =G8+G11-G26 -> -2259
B40: 1. | C40: Vispārējie ziedojumi (neierobežotai lietošanai), tai skaitā anonīmi ziedojumi un dāvinājumi | G40: =G7+G10-G25 -> -1930 | H40: 1779
B41: 2. | C41: Mērķziedojumi (noteiktiem mērķiem), tai skaitā anonīmi ziedojumi un dāvinājumi | G41: =G8+G17-G31 -> 1930 | H41: 1930
A43: =aktīvs!A29 -> Latvijas Neredzīgo biedrības Centrālās valdes priekšsēdētājs Kaspars Biezais
...

Sheet GP
A1: =saturs!A1 -> Latvijas Neredzīgo biedrība, reģ. Nr.40008004000, Braila iela 3, Rīga Gada pārskats 2024 | K1: =CONCATENATE([1]Titullapa!N36," годовой отчёт за ",[1]Titullapa!O44," год") -> ООО "RAI годовой отчёт за 2021 год | U1: =CONCATENATE([1]Titullapa!X36," annual report for year ",[1]Titullapa!Y44) -> RAI SIA annual report for year 2021
A3: GRĀMATVEDĪBAS POLITIKA | K3: СОДЕРЖАНИЕ | U3: CONTENTS
A5: Informācija par Biedrības darbu | K5: Информация об обществе | S5: 3 | T5: 3 | U5: Company Information | AD5: 3
A7: Latvijas Neredzīgo biedrība (turpmāk Biedrība) darbojas saskaņā ar Latvijas Republikas Biedrību un nodibinājumu likumu. | K7: Сообщение руководства предприятия | S7: 4 | T7: 4 | U7: Management Report | AD7: 4
A9: Grāmatvedības principi un novērtēšanas metodes | K9: Отчёт о прибылях и убытках | S9: 5 | T9: 5 | U9: Income Statement | AD9: 5
A11: Gada pārskats ir sagatavots saskaņā ar Latvijas Republikas likumdošanu, Biedrības statūtiem un 2022.gada 14.jūlija LR Ministru Kabineta noteikumiem Nr. 439 “Noteikumi par biedrību, nodibinājumu un arodbiedrību gada pārskatiem un grāmatvedības kārtošanu vienkāršā ieraksta sistēmā”. | K11: Баланс | S11: 6 | T11: 6 | U11: Balance Sheet | AD11: 6
A13: Gada pārskata posteņi ir novērtēti atbilstoši sekojošiem grāmatvedības principiem: | K13: Отчёт о движении денежных средств | T13: 8 | U13: Cash Flow Statement | AD13: 8
B15: Pieņemot, ka Biedrība turpinās darbību arī turpmāk, | K15: Отчёт об изменениях в собственном капитале | S15: 8 | T15: 8 | U15: Statement of Changes in Equity | AD15: 9
B16: 1) izmantojot tādas pašas novērtēšanas metodes kā iepriekšējā pārskata gadā,
B17: 2) novērtēšana veikta ar pienācīgu piesardzību, t.i.:
B18: * gada pārskatā iekļauti tikai līdz bilances datumam Biedrības saņemtie ziedojumi,
B19: * ņemtas vērā izmaksas, kas radušās pārskata gadā vai iepriekšējos gados, arī tad, ja tās kļuvušas zināmas laika posmā starp bilances datumu un gada pārskata sagatavošanas datumu,
B20: Biedrības saimnieciskie darījumi iegrāmatoti un atspoguļoti gada pārskatā, ņemot vērā to ekonomisko saturu un būtību, nevis juridisko formu,
B21: Aktīva un pasīva posteņu sastāvdaļas novērtētas atsevišķi.
A23: Bilances posteņi strukturēti atbilstoši MK noteikumu Nr.439 2.pielikuma pievienotajai shēmai. Ieņēmumu un izdevumu pārskats ir sagatavots atbilstoši MK noteikumu Nr.439 3.pielikumā pievienotajai shēmai. Ieņēmumu pārsniegumu pār izdevumiem ieskaita rezerves fondā. Izdevumu pārsniegumu pār ieņēmumiem noraksta no rezerves fonda atlikuma.
A24: Materiālo un finanšu līdzekļu atlikumi pārbaudīti inventarizācijās. Pamatlīdzekļi ir uzrādīti iegādes vērtībā, atskaitot nolietojumu. Pamatlīdzekļu nolietojums aprēķināts pēc lineārās metodes.
A25: Ieņēmumu uzskaite
A26: Postenī Biedru nauda, iestāšanās nauda un citas gadskārtējās iemaksas tiek uzskaitītas Biedrības biedru iemaksātās biedru naudas.
A27: Saņemto ziedojumu sastāvā tiek uzskaitītas Biedrības norēķinu kontā saņemtās ziedojumu summas. Saņemtie mantiskie ziedojumi tiek novērtēti naudā, pamatojoties uz ziedojumu vai dāvinājuma apliecinošajos dokumentos norādīto vērtību.
A28: Postenī Saņemtās dotācijas tiek iekļautas summas, kas saņemtas no valsts un pašvaldību budžetiem, Nodarbinatības valsts aģentūras.
A29: Ieņēmumus no saimnieciskās darbības veido ieņēmumi no telpu nomas, transporta un citu pakalpojumu sniegšanas.
A30: Pārējie ieņēmumi veidojas no vienreizējām iemaksām, kas saņemtas par tehnisko palīglīdzekļu izsniegšanu, veicot valsts deleģētās funkcijas, kā arī no citām biedrībām, labdarības fondiem un nodibinājumiem saņemtajām summām.
A31: Biedrībai ir izveidoti trīs fondi:
B32: * pamatfonda, kas sastāv no ilgtermiņa ieguldījumiem,
B33: * mērķfonda, kas veidojas no mērķa ziedojumiem.Tie tiek izmantoti konkrētu mērķu sasniegšanai,
B34: * rezerves fonda, kas ir paredzēts neierobežotai lietošanai Biedrības statūtos noteikto mērķu un uzdevumu sasniegšanai. Veidojas no ieņēmumu pārsnieguma pār izdevumiem vai arī samazinās par izdevumu pārsniegumu pār ieņēmumiem.
A36: 8

Sheet skaidrojumi
A1: =saturs!A1 -> Latvijas Neredzīgo biedrība, reģ. Nr.40008004000, Braila iela 3, Rīga Gada pārskats 2024
A5: 2. Nemateriālo ieguldījumu un pamatlīdzekļu kustības pārskats
C7: Nemate-riālie ieguldījumi | D7: Dzīvnieki un augi | E7: Pārējie pamat-līdzekļi | F7: Nekustamais īpašums | G7: Pamatlīdzekļi kopā
C8: EUR | D8: EUR | E8: EUR | F8: EUR | G8: EUR
A10: Uzskaites vērtība | B10: 45292 | C10: 1175 | D10: 227499 | E10: 53788 | F10: 10276595 | G10: =SUM(C10:F10) -> 10559057
A11: Iegādāts | C11: - | D11: 22500 | E11: 2965 | F11: 0 | G11: =SUM(C11:F11) -> 25465
A12: Atsavināts vai likvidēts | E12: -5440 | G12: =SUM(C12:F12) -> -5440
A13: Pārvietots uz citu posteni | G13: =SUM(C13:F13) -> 0
A14: Uzskaites vērtība | B14: 45657 | C14: =SUM(C10:C13) -> 1175 | D14: =SUM(D10:D13) -> 249999 | E14: =SUM(E10:E13) -> 51313 | F14: =SUM(F10:F13) -> 10276595 | G14: =SUM(G10:G13) -> 10579082
A16: Uzkrātais nolietojums | B16: 45292 | C16: 353 | D16: 0 | E16: 30259 | F16: 1519369 | G16: =SUM(C16:F16) -> 1549981
A17: Aprēķinātais nolietojums | C17: 235 | D17: 0 | E17: 3048 | F17: 153366 | G17: =SUM(C17:F17) -> 156649
A18: Atsavināts | E18: -5440 | G18: =SUM(C18:F18) -> -5440
A19: Pārvietots | G19: =SUM(C19:F19) -> 0
A20: Uzkrātais nolietojums | B20: 45657 | C20: =SUM(C16:C19) -> 588 | D20: =SUM(D16:D19) -> 0 | E20: =SUM(E16:E19) -> 27867 | F20: =SUM(F16:F19) -> 1672735 | G20: =SUM(G16:G19) -> 1701190
A22: Atlikusī vērtība | B22: 45292 | C22: =C10-C16 -> 822 | D22: =D10-D16 -> 227499 | E22: =E10-E16 -> 23529 | F22: =F10-F16 -> 8757226 | G22: =G10-G16 -> 9009076
A23: Atlikusī vērtība | B23: 45657 | C23: =C14-C20 -> 587 | D23: =D14-D20 -> 249999 | E23: =E14-E20 -> 23446 | F23: =F14-F20 -> 8603860 | G23: =G14-G20 -> 8877892
F26: 31.12.2024. | G26: 31.12.2023.
F27: EUR | G27: EUR
A28: 3. Krājumi
A29: Iepirktie tehniskie palīglīdzekļi personām ar redzes traucējumiem Valsts deleģēto funkciju ietvaros | F29: =319975 -> 319975 | G29: 334421 | H29: 2119
A30: Pārējie krājumi | F30: =131+1076 -> 1207 | G30: 72 | H30: 2115, 2116
F31: =SUM(F29:F30) -> 321182 | G31: =SUM(G29:G30) -> 334493 | I31: =F31-aktīvs!G19 -> 0 | J31: =G31-aktīvs!H19 -> 0
A33: 4. Debitori
A34: Debitoru parādi | F34: 7220 | G34: 498 | H34: 2311
A35: Norēķini ar norēķinu personām | F35: 70 | G35: 0 | H35: 2381
A36: Uzkrātie ieņēmumi | F36: 0 | G36: 170 | H36: 2369
A37: Avansa maksājums par pakalpojumiem un pārējie debitori | F37: =913+3+149+15398+8108+500 -> 25071 | G37: 20595 | H37: 2421
F38: =SUM(F34:F37) -> 32361 | G38: =SUM(G34:G37) -> 21263 | I38: =F38-aktīvs!G22 -> 0 | J38: =G38-aktīvs!H22 -> 0
A40: 5. Nauda
A41: Naudas līdzekļi valsts deleģēto funkciju izpildei | F41: 187556 | G41: 486796 | H41: 2621
A42: Naudas līdzekļi banku kontos | F42: 309207 | G42: 299099 | H42: 2621, 2622
A43: Naudas līdzekļi teritoriālo organizāciju kasēs | F43: 2383 | G43: 2204 | H43: 2614
F44: =SUM(F41:F43) -> 499146 | G44: =SUM(G41:G43) -> 788099 | I44: =aktīvs!G25-F44 -> 0 | J44: =aktīvs!H25-G44 -> 0
A49: 9
F50: 31.12.2024. | G50: 31.12.2023.
F51: EUR | G51: EUR
A52: 6. Fondi
A53: Biedrības pamatfonds | F53: 8046370 | G53: 8046370
A54: Mērķfonds | F54: 140 | G54: 140
A55: Rezerves fonds | F55: =F56+F57 -> 88233 | G55: =G56+G57 -> 202726
...
